BEGIN:VCALENDAR
VERSION:2.0
PRODID:-//TYPO3/NONSGML News system (news)//EN
BEGIN:VEVENT
UID:news-69620@privatrechtlicher-dialog.uni-graz.at
DTSTAMP:20241223T063258Z
DTSTART:20210420T160000Z
DTEND:20210420T190000Z
SUMMARY:Dialog am 20.04.2021

DESCRIPTION:Die Aktionärsrechte-RL: Vergütung von Vorstand und Aufsichtsrat sowie Related Party Transactions und sonstige zustimmungspflichtige Geschäfte
END:VEVENT
END:VCALENDAR
